BEGIN:VCALENDAR
VERSION:2.0
PRODID:-//Plone.org//NONSGML plone.app.event//EN
X-WR-TIMEZONE:US/Central
BEGIN:VEVENT
SUMMARY:Chess Club
DTSTART;TZID=US/Central:20260119T160000
DTSTAMP:20260421T145121Z
UID:222ef5d921c14ea8a6085d4e3b1919fc@saas_stack_varnish:6080
CATEGORIES:Chess Club,Mondays at 4pm,all ages,learn chess
CONTACT:Miss Kim\, 616-887-9937\, librarian@spartalib.com
CREATED:20260223T155808Z
DESCRIPTION:Come play chess with chess lovers of all ages.  Alex\, our che
 ss club organizer\, is teaching beginners and also teaching players how to
  strategize with other players.
LAST-MODIFIED:20260415T191821Z
LOCATION:In library tween room
URL:https://www.spartalib.org/news-events/chess-club
END:VEVENT
BEGIN:VTIMEZONE
TZID:US/Central
X-LIC-LOCATION:US/Central
BEGIN:STANDARD
DTSTART:20251102T010000
TZNAME:CST
TZOFFSETFROM:-0500
TZOFFSETTO:-0600
END:STANDARD
END:VTIMEZONE
END:VCALENDAR
